git_url: https://git.bioconductor.org/packages/alabaster.mae
git_branch: RELEASE_3_17
git_last_commit: acbca50
git_last_commit_date: 2023-04-25 11:43:04 -0400 (Tue, 25 Apr 2023)
Package: alabaster.mae
Version: 1.0.0
Maintainer: Aaron Lun
MaintainerEmail: infinite.monkeys.with.keyboards at gmail.com