Package: a4Reporting Version: 1.48.0 Command: F:\biocbuild\bbs-3.17-bioc\R\bin\R.exe CMD check --no-multiarch --install=check:a4Reporting.install-out.txt --library=F:\biocbuild\bbs-3.17-bioc\R\library --no-vignettes --timings a4Reporting_1.48.0.tar.gz StartedAt: 2023-10-15 23:16:09 -0400 (Sun, 15 Oct 2023) EndedAt: 2023-10-15 23:17:23 -0400 (Sun, 15 Oct 2023) EllapsedTime: 74.2 seconds RetCode: 0 Status: OK CheckDir: a4Reporting.Rcheck Warnings: 0