Package: XDE
Version: 2.46.0
Command: F:\biocbuild\bbs-3.17-bioc\R\bin\R.exe CMD INSTALL XDE
StartedAt: 2023-10-15 16:47:01 -0400 (Sun, 15 Oct 2023)
EndedAt: 2023-10-15 16:48:19 -0400 (Sun, 15 Oct 2023)
EllapsedTime: 78.6 seconds
RetCode: 0
Status: OK