Package: XDE
Version: 2.46.0
Command: F:\biocbuild\bbs-3.17-bioc\R\bin\R.exe CMD check --no-multiarch --install=check:XDE.install-out.txt --library=F:\biocbuild\bbs-3.17-bioc\R\library --no-vignettes --timings XDE_2.46.0.tar.gz
StartedAt: 2023-10-16 08:05:52 -0400 (Mon, 16 Oct 2023)
EndedAt: 2023-10-16 08:09:15 -0400 (Mon, 16 Oct 2023)
EllapsedTime: 202.9 seconds
RetCode: 0
Status: WARNINGS
CheckDir: XDE.Rcheck
Warnings: 1