Package: XDE Version: 2.46.0 Command: chmod a+r XDE -R && F:\biocbuild\bbs-3.17-bioc\R\bin\R.exe CMD build --keep-empty-dirs --no-resave-data XDE StartedAt: 2023-10-15 23:07:04 -0400 (Sun, 15 Oct 2023) EndedAt: 2023-10-15 23:08:42 -0400 (Sun, 15 Oct 2023) EllapsedTime: 98.6 seconds RetCode: 0 Status: OK PackageFile: XDE_2.46.0.tar.gz PackageFileSize: 1.086 <A href="http://en.wikipedia.org/wiki/MiB" target="_blank">MiB</A>