Package: XDE Version: 2.46.0 Command: rm -rf XDE.buildbin-libdir && mkdir XDE.buildbin-libdir && F:\biocbuild\bbs-3.17-bioc\R\bin\R.exe CMD INSTALL --build --library=XDE.buildbin-libdir XDE_2.46.0.tar.gz StartedAt: 2023-10-16 09:43:13 -0400 (Mon, 16 Oct 2023) EndedAt: 2023-10-16 09:44:27 -0400 (Mon, 16 Oct 2023) EllapsedTime: 74.5 seconds RetCode: 0 Status: OK PackageFile: XDE_2.46.0.zip PackageFileSize: 2.313 <A href="http://en.wikipedia.org/wiki/MiB" target="_blank">MiB</A>