Package: XDE
Version: 2.46.0
Command: /home/biocbuild/bbs-3.17-bioc/R/bin/R CMD INSTALL XDE
StartedAt: 2023-10-15 15:39:46 -0400 (Sun, 15 Oct 2023)
EndedAt: 2023-10-15 15:40:43 -0400 (Sun, 15 Oct 2023)
EllapsedTime: 57.0 seconds
RetCode: 0
Status: OK