Package: XDE Version: 2.46.0 Command: /home/biocbuild/bbs-3.17-bioc/R/bin/R CMD check --install=check:XDE.install-out.txt --library=/home/biocbuild/bbs-3.17-bioc/R/site-library --timings XDE_2.46.0.tar.gz StartedAt: 2023-10-16 02:08:42 -0400 (Mon, 16 Oct 2023) EndedAt: 2023-10-16 02:12:12 -0400 (Mon, 16 Oct 2023) EllapsedTime: 210.2 seconds RetCode: 0 Status: WARNINGS CheckDir: XDE.Rcheck Warnings: 1