Package: XDE
Version: 2.46.0
Command: /home/biocbuild/bbs-3.17-bioc/R/bin/R CMD build --keep-empty-dirs --no-resave-data XDE
StartedAt: 2023-10-15 18:57:24 -0400 (Sun, 15 Oct 2023)
EndedAt: 2023-10-15 18:58:32 -0400 (Sun, 15 Oct 2023)
EllapsedTime: 67.2 seconds
RetCode: 0
Status: OK
PackageFile: XDE_2.46.0.tar.gz
PackageFileSize: 1.082 <A href="http://en.wikipedia.org/wiki/MiB" target="_blank">MiB</A>