git_url: https://git.bioconductor.org/packages/ViSEAGO
git_branch: RELEASE_3_17
git_last_commit: 2c260c1
git_last_commit_date: 2023-04-25 11:11:13 -0400 (Tue, 25 Apr 2023)
Package: ViSEAGO
Version: 1.14.0
Maintainer: Aurelien Brionne
MaintainerEmail: aurelien.brionne at inrae.fr