Package: Ularcirc Version: 1.18.0 Command: /home/biocbuild/bbs-3.17-bioc/R/bin/R CMD check --install=check:Ularcirc.install-out.txt --library=/home/biocbuild/bbs-3.17-bioc/R/site-library --timings Ularcirc_1.18.0.tar.gz StartedAt: 2023-10-16 01:58:36 -0400 (Mon, 16 Oct 2023) EndedAt: 2023-10-16 02:00:10 -0400 (Mon, 16 Oct 2023) EllapsedTime: 93.9 seconds RetCode: 0 Status: WARNINGS CheckDir: Ularcirc.Rcheck Warnings: 1