Package: UNDO Version: 1.42.0 Command: chmod a+r UNDO -R && F:\biocbuild\bbs-3.17-bioc\R\bin\R.exe CMD build --keep-empty-dirs --no-resave-data UNDO StartedAt: 2023-10-15 22:59:16 -0400 (Sun, 15 Oct 2023) EndedAt: 2023-10-15 22:59:30 -0400 (Sun, 15 Oct 2023) EllapsedTime: 13.2 seconds RetCode: 0 Status: OK PackageFile: UNDO_1.42.0.tar.gz PackageFileSize: 2.785 MiB