Package: UNDO Version: 1.42.0 Command: /home/biocbuild/bbs-3.17-bioc/R/bin/R CMD INSTALL UNDO StartedAt: 2023-10-15 15:07:23 -0400 (Sun, 15 Oct 2023) EndedAt: 2023-10-15 15:07:36 -0400 (Sun, 15 Oct 2023) EllapsedTime: 13.1 seconds RetCode: 0 Status: OK