git_url: https://git.bioconductor.org/packages/TreeSummarizedExperiment
git_branch: RELEASE_3_17
git_last_commit: 54e49c9
git_last_commit_date: 2023-04-25 11:10:36 -0400 (Tue, 25 Apr 2023)
Package: TreeSummarizedExperiment
Version: 2.8.0
Maintainer: Ruizhu Huang
MaintainerEmail: ruizhuRH at gmail.com