git_url: https://git.bioconductor.org/packages/TreeAndLeaf
git_branch: RELEASE_3_17
git_last_commit: a0c88f8
git_last_commit_date: 2023-04-25 11:15:21 -0400 (Tue, 25 Apr 2023)
Package: TreeAndLeaf
Version: 1.12.0
Maintainer: Milena A. Cardoso
MaintainerEmail: milenandreuzo at gmail.com