git_url: https://git.bioconductor.org/packages/TarSeqQC
git_branch: RELEASE_3_17
git_last_commit: 52927c8
git_last_commit_date: 2023-04-25 10:41:42 -0400 (Tue, 25 Apr 2023)
Package: TarSeqQC
Version: 1.30.0
Maintainer: Gabriela Merino
MaintainerEmail: merino.gabriela33 at gmail.com