git_url: https://git.bioconductor.org/packages/TFutils
git_branch: RELEASE_3_17
git_last_commit: 1f0a05b
git_last_commit_date: 2023-04-25 11:00:54 -0400 (Tue, 25 Apr 2023)
Package: TFutils
Version: 1.20.0
Maintainer: Vincent Carey
MaintainerEmail: stvjc at channing.harvard.edu