git_url: https://git.bioconductor.org/packages/TENxIO
git_branch: RELEASE_3_17
git_last_commit: f2ae1a5
git_last_commit_date: 2023-04-25 11:40:51 -0400 (Tue, 25 Apr 2023)
Package: TENxIO
Version: 1.2.0
Maintainer: Marcel Ramos
MaintainerEmail: marcel.ramos at roswellpark.org