git_url: https://git.bioconductor.org/packages/SynMut
git_branch: RELEASE_3_17
git_last_commit: 0588d56
git_last_commit_date: 2023-04-25 11:10:07 -0400 (Tue, 25 Apr 2023)
Package: SynMut
Version: 1.16.0
Maintainer: Haogao Gu
MaintainerEmail: hggu at connect.hku.hk