git_url: https://git.bioconductor.org/packages/SpliceWiz
git_branch: RELEASE_3_17
git_last_commit: 92135a4
git_last_commit_date: 2023-07-30 17:48:22 -0400 (Sun, 30 Jul 2023)
Package: SpliceWiz
Version: 1.2.3
Maintainer: Alex Chit Hei Wong
MaintainerEmail: a.wong at centenary.org.au