git_url: https://git.bioconductor.org/packages/SpatialExperiment
git_branch: RELEASE_3_17
git_last_commit: 6142b65
git_last_commit_date: 2023-04-25 11:20:46 -0400 (Tue, 25 Apr 2023)
Package: SpatialExperiment
Version: 1.10.0
Maintainer: Dario Righelli
MaintainerEmail: dario.righelli at gmail.com