git_url: https://git.bioconductor.org/packages/SparseArray
git_branch: RELEASE_3_17
git_last_commit: 90e0d62
git_last_commit_date: 2023-08-30 15:02:57 -0400 (Wed, 30 Aug 2023)
Package: SparseArray
Version: 1.0.12
Maintainer: Hervé Pagès
MaintainerEmail: hpages.on.github at gmail.com