git_url: https://git.bioconductor.org/packages/SpacePAC
git_branch: RELEASE_3_17
git_last_commit: e9210f2
git_last_commit_date: 2023-04-25 10:28:15 -0400 (Tue, 25 Apr 2023)
Package: SpacePAC
Version: 1.38.0
Maintainer: Gregory Ryslik
MaintainerEmail: gregory.ryslik at yale.edu