git_url: https://git.bioconductor.org/packages/SingleMoleculeFootprinting
git_branch: RELEASE_3_17
git_last_commit: b09ed79
git_last_commit_date: 2023-04-25 11:30:29 -0400 (Tue, 25 Apr 2023)
Package: SingleMoleculeFootprinting
Version: 1.8.0
Maintainer: Guido Barzaghi
MaintainerEmail: guido.barzaghi at embl.de