git_url: https://git.bioconductor.org/packages/SiPSiC
git_branch: RELEASE_3_17
git_last_commit: f7eab5c
git_last_commit_date: 2023-08-16 02:05:11 -0400 (Wed, 16 Aug 2023)
Package: SiPSiC
Version: 1.0.2
Maintainer: Daniel Davis
MaintainerEmail: DanielDavis000 at gmail.com