git_url: https://git.bioconductor.org/packages/Scale4C
git_branch: RELEASE_3_17
git_last_commit: ade04fe
git_last_commit_date: 2023-04-25 10:54:40 -0400 (Tue, 25 Apr 2023)
Package: Scale4C
Version: 1.22.0
Maintainer: Carolin Walter
MaintainerEmail: carolin.walter at uni-muenster.de