git_url: https://git.bioconductor.org/packages/SNPhood
git_branch: RELEASE_3_17
git_last_commit: c761f49
git_last_commit_date: 2023-04-25 10:42:22 -0400 (Tue, 25 Apr 2023)
Package: SNPhood
Version: 1.30.0
Maintainer: Christian Arnold
MaintainerEmail: christian.arnold at embl.de