Package: SMAD
Version: 1.16.0
Command: /home/biocbuild/bbs-3.17-bioc/R/bin/R CMD INSTALL SMAD
StartedAt: 2023-10-15 15:10:16 -0400 (Sun, 15 Oct 2023)
EndedAt: 2023-10-15 15:10:40 -0400 (Sun, 15 Oct 2023)
EllapsedTime: 23.9 seconds
RetCode: 0
Status: OK