Package: SMAD
Version: 1.16.0
Command: /home/biocbuild/bbs-3.17-bioc/R/bin/R CMD check --install=check:SMAD.install-out.txt --library=/home/biocbuild/bbs-3.17-bioc/R/site-library --timings SMAD_1.16.0.tar.gz
StartedAt: 2023-10-16 01:13:51 -0400 (Mon, 16 Oct 2023)
EndedAt: 2023-10-16 01:14:46 -0400 (Mon, 16 Oct 2023)
EllapsedTime: 54.6 seconds
RetCode: 0
Status: OK
CheckDir: SMAD.Rcheck
Warnings: 0