Package: SMAD Version: 1.16.0 Command: /home/biocbuild/bbs-3.17-bioc/R/bin/R CMD build --keep-empty-dirs --no-resave-data SMAD StartedAt: 2023-10-15 18:35:28 -0400 (Sun, 15 Oct 2023) EndedAt: 2023-10-15 18:35:51 -0400 (Sun, 15 Oct 2023) EllapsedTime: 23.2 seconds RetCode: 0 Status: OK PackageFile: SMAD_1.16.0.tar.gz PackageFileSize: 386.5 <A href="http://en.wikipedia.org/wiki/KiB" target="_blank">KiB</A>