Package: SMAD
Version: 1.16.0
Command: /Library/Frameworks/R.framework/Resources/bin/R CMD INSTALL SMAD
StartedAt: 2023-10-15 15:08:28 -0400 (Sun, 15 Oct 2023)
EndedAt: 2023-10-15 15:09:07 -0400 (Sun, 15 Oct 2023)
EllapsedTime: 39.0 seconds
RetCode: 0
Status: OK