Package: SMAD
Version: 1.16.0
Command: /Library/Frameworks/R.framework/Resources/bin/R CMD check --install=check:SMAD.install-out.txt --library=/Library/Frameworks/R.framework/Resources/library --no-vignettes --timings SMAD_1.16.0.tar.gz
StartedAt: 2023-10-16 07:17:03 -0400 (Mon, 16 Oct 2023)
EndedAt: 2023-10-16 07:19:08 -0400 (Mon, 16 Oct 2023)
EllapsedTime: 125.3 seconds
RetCode: 0
Status: OK
CheckDir: SMAD.Rcheck
Warnings: 0