Package: SMAD
Version: 1.16.0
Command: /Library/Frameworks/R.framework/Resources/bin/R CMD build --keep-empty-dirs --no-resave-data SMAD
StartedAt: 2023-10-15 21:27:57 -0400 (Sun, 15 Oct 2023)
EndedAt: 2023-10-15 21:29:14 -0400 (Sun, 15 Oct 2023)
EllapsedTime: 76.5 seconds
RetCode: 0
Status: OK
PackageFile: SMAD_1.16.0.tar.gz
PackageFileSize: 389.7 <A href="http://en.wikipedia.org/wiki/KiB" target="_blank">KiB</A>