Package: SMAD
Version: 1.16.0
Command: rm -rf SMAD.buildbin-libdir && mkdir SMAD.buildbin-libdir && /Users/biocbuild/BBS/utils/build-universal.sh SMAD_1.16.0.tar.gz /Library/Frameworks/R.framework/Resources/bin/R SMAD.buildbin-libdir
StartedAt: 2023-10-16 10:15:19 -0400 (Mon, 16 Oct 2023)
EndedAt: 2023-10-16 10:16:21 -0400 (Mon, 16 Oct 2023)
EllapsedTime: 62.0 seconds
RetCode: 0
Status: OK
PackageFile: SMAD_1.16.0.tgz
PackageFileSize: 461.3 <A href="http://en.wikipedia.org/wiki/KiB" target="_blank">KiB</A>