git_url: https://git.bioconductor.org/packages/SGSeq
git_branch: RELEASE_3_17
git_last_commit: 9d8c0f3
git_last_commit_date: 2023-04-25 10:35:48 -0400 (Tue, 25 Apr 2023)
Package: SGSeq
Version: 1.34.0
Maintainer: Leonard Goldstein
MaintainerEmail: ldgoldstein at gmail.com