git_url: https://git.bioconductor.org/packages/SCnorm
git_branch: RELEASE_3_17
git_last_commit: 8414503
git_last_commit_date: 2023-04-25 10:55:27 -0400 (Tue, 25 Apr 2023)
Package: SCnorm
Version: 1.22.0
Maintainer: Rhonda Bacher
MaintainerEmail: rbacher at ufl.edu