git_url: https://git.bioconductor.org/packages/SAIGEgds
git_branch: RELEASE_3_17
git_last_commit: 8011316
git_last_commit_date: 2023-05-01 20:07:45 -0400 (Mon, 01 May 2023)
Package: SAIGEgds
Version: 2.0.1
Maintainer: Xiuwen Zheng
MaintainerEmail: xiuwen.zheng at abbvie.com