git_url: https://git.bioconductor.org/packages/Rsubread
git_branch: RELEASE_3_17
git_last_commit: 863bd98
git_last_commit_date: 2023-05-21 17:20:08 -0400 (Sun, 21 May 2023)
Package: Rsubread
Version: 2.14.2
Maintainer: Wei Shi <wei.shi@onjcri.org.au>, Yang Liao <yang.liao@onjcri.org.au> and Gordon K Smyth
MaintainerEmail: smyth at wehi.edu.au