git_url: https://git.bioconductor.org/packages/RnBeads
git_branch: RELEASE_3_17
git_last_commit: d20e31c
git_last_commit_date: 2023-08-01 03:45:58 -0400 (Tue, 01 Aug 2023)
Package: RnBeads
Version: 2.18.1
Maintainer: Fabian Mueller
MaintainerEmail: team at rnbeads.org