git_url: https://git.bioconductor.org/packages/RefPlus
git_branch: RELEASE_3_17
git_last_commit: c55cf4f
git_last_commit_date: 2023-04-25 09:44:38 -0400 (Tue, 25 Apr 2023)
Package: RefPlus
Version: 1.70.0
Maintainer: Kai-Ming Chang
MaintainerEmail: kaiming at gmail.com