Package: ReactomePA Version: 1.44.0 Command: /home/biocbuild/bbs-3.17-bioc/R/bin/R CMD INSTALL ReactomePA StartedAt: 2023-10-15 15:35:47 -0400 (Sun, 15 Oct 2023) EndedAt: 2023-10-15 15:36:10 -0400 (Sun, 15 Oct 2023) EllapsedTime: 23.1 seconds RetCode: 0 Status: OK