Package: ReactomePA
Version: 1.44.0
Command: /home/biocbuild/bbs-3.17-bioc/R/bin/R CMD check --install=check:ReactomePA.install-out.txt --library=/home/biocbuild/bbs-3.17-bioc/R/site-library --timings ReactomePA_1.44.0.tar.gz
StartedAt: 2023-10-16 00:17:47 -0400 (Mon, 16 Oct 2023)
EndedAt: 2023-10-16 00:21:07 -0400 (Mon, 16 Oct 2023)
EllapsedTime: 199.2 seconds
RetCode: 0
Status: OK
CheckDir: ReactomePA.Rcheck
Warnings: 0