Package: ReactomePA Version: 1.44.0 Command: /home/biocbuild/bbs-3.17-bioc/R/bin/R CMD build --keep-empty-dirs --no-resave-data ReactomePA StartedAt: 2023-10-15 18:08:44 -0400 (Sun, 15 Oct 2023) EndedAt: 2023-10-15 18:09:15 -0400 (Sun, 15 Oct 2023) EllapsedTime: 30.2 seconds RetCode: 0 Status: OK PackageFile: ReactomePA_1.44.0.tar.gz PackageFileSize: 57.35 <A href="http://en.wikipedia.org/wiki/KiB" target="_blank">KiB</A>