Package: ReactomePA
Version: 1.44.0
Command: /Library/Frameworks/R.framework/Resources/bin/R CMD INSTALL ReactomePA
StartedAt: 2023-10-15 16:04:12 -0400 (Sun, 15 Oct 2023)
EndedAt: 2023-10-15 16:05:29 -0400 (Sun, 15 Oct 2023)
EllapsedTime: 76.5 seconds
RetCode: 0
Status: OK