Package: ReactomePA
Version: 1.44.0
Command: /Library/Frameworks/R.framework/Resources/bin/R CMD build --keep-empty-dirs --no-resave-data ReactomePA
StartedAt: 2023-10-15 20:35:51 -0400 (Sun, 15 Oct 2023)
EndedAt: 2023-10-15 20:37:02 -0400 (Sun, 15 Oct 2023)
EllapsedTime: 71.5 seconds
RetCode: 0
Status: OK
PackageFile: ReactomePA_1.44.0.tar.gz
PackageFileSize: 57.36 <A href="http://en.wikipedia.org/wiki/KiB" target="_blank">KiB</A>