git_url: https://git.bioconductor.org/packages/Rdisop
git_branch: RELEASE_3_17
git_last_commit: 8f193d1
git_last_commit_date: 2023-04-25 09:46:04 -0400 (Tue, 25 Apr 2023)
Package: Rdisop
Version: 1.60.0
Maintainer: Steffen Neumann
MaintainerEmail: sneumann at ipb-halle.de