Package: RareVariantVis Version: 2.28.0 Command: /home/biocbuild/bbs-3.17-bioc/R/bin/R CMD INSTALL RareVariantVis StartedAt: 2023-10-15 15:49:54 -0400 (Sun, 15 Oct 2023) EndedAt: 2023-10-15 15:50:40 -0400 (Sun, 15 Oct 2023) EllapsedTime: 46.0 seconds RetCode: 0 Status: OK