Package: RareVariantVis
Version: 2.28.0
Command: /home/biocbuild/bbs-3.17-bioc/R/bin/R CMD check --install=check:RareVariantVis.install-out.txt --library=/home/biocbuild/bbs-3.17-bioc/R/site-library --timings RareVariantVis_2.28.0.tar.gz
StartedAt: 2023-10-16 00:13:53 -0400 (Mon, 16 Oct 2023)
EndedAt: 2023-10-16 00:18:57 -0400 (Mon, 16 Oct 2023)
EllapsedTime: 303.7 seconds
RetCode: 0
Status: OK
CheckDir: RareVariantVis.Rcheck
Warnings: 0