Package: RareVariantVis Version: 2.28.0 Command: /home/biocbuild/bbs-3.17-bioc/R/bin/R CMD build --keep-empty-dirs --no-resave-data RareVariantVis StartedAt: 2023-10-15 18:06:17 -0400 (Sun, 15 Oct 2023) EndedAt: 2023-10-15 18:07:04 -0400 (Sun, 15 Oct 2023) EllapsedTime: 47.2 seconds RetCode: 0 Status: OK PackageFile: RareVariantVis_2.28.0.tar.gz PackageFileSize: 2.751 <A href="http://en.wikipedia.org/wiki/MiB" target="_blank">MiB</A>