Package: RareVariantVis
Version: 2.28.0
Command: /Library/Frameworks/R.framework/Resources/bin/R CMD build --keep-empty-dirs --no-resave-data RareVariantVis
StartedAt: 2023-10-15 20:31:58 -0400 (Sun, 15 Oct 2023)
EndedAt: 2023-10-15 20:33:51 -0400 (Sun, 15 Oct 2023)
EllapsedTime: 113.1 seconds
RetCode: 0
Status: OK
PackageFile: RareVariantVis_2.28.0.tar.gz
PackageFileSize: 2.756 <A href="http://en.wikipedia.org/wiki/MiB" target="_blank">MiB</A>